BEGIN:VCALENDAR
VERSION:2.0
PRODID:-//Tukios.com/
BEGIN:VEVENT
UID:6a5cabe5-8358-42af-a9ec-34f8324c55b8@www.collinsfuneral.com
DTSTAMP:20260421T025951Z
DTSTART:20260422T220000Z
DTEND:20260423T000000Z
SUMMARY:Visitation
DESCRIPTION:
URL:https://www.collinsfuneral.com/obituaries/kiara-arce-gonzalez
LOCATION: 378 Lincoln Street  Malborough MA 01752
GEO:42.3467952;-71.5569326
END:VEVENT
END:VCALENDAR