BEGIN:VCALENDAR
VERSION:2.0
PRODID:-//Tukios.com/
BEGIN:VEVENT
UID:9180c03e-5946-4f5a-8934-199e573f9c4c@www.collinsfuneral.com
DTSTAMP:20260421T195601Z
DTSTART:20260425T140000Z
DTEND:20260425T141500Z
SUMMARY:Graveside Service
DESCRIPTION:
URL:https://www.collinsfuneral.com/obituaries/joseph-bennett
LOCATION:Eastwood Cemetery 330 Old Common Road  Lancaster MA 01523
GEO:42.4412112;-71.6553118
END:VEVENT
END:VCALENDAR