BEGIN:VCALENDAR
VERSION:2.0
PRODID:-//Tukios.com/
BEGIN:VEVENT
UID:a3954dcf-ff93-4bb8-a0c4-4d97015ff46a@www.collinsfuneral.com
DTSTAMP:20260421T195731Z
DTSTART:20260424T210000Z
DTEND:20260425T000000Z
SUMMARY:Visitation
DESCRIPTION:
URL:https://www.collinsfuneral.com/obituaries/joseph-bennett
LOCATION: 378 Lincoln Street  Malborough MA 01752
GEO:42.3467952;-71.5569326
END:VEVENT
END:VCALENDAR