BEGIN:VCALENDAR
VERSION:2.0
PRODID:-//Tukios.com/
BEGIN:VEVENT
UID:d03676f9-be8f-484c-b834-fcb15c4a5e4b@www.collinsfuneral.com
DTSTAMP:20260420T021206Z
DTSTART:20260424T151500Z
DTEND:20260424T153000Z
SUMMARY:Graveside Service
DESCRIPTION:
URL:https://www.collinsfuneral.com/obituaries/amy-poirier
LOCATION:  Wilson Street  Marlborough MA 01752
GEO:42.3524993;-71.5082624
END:VEVENT
END:VCALENDAR