BEGIN:VCALENDAR
VERSION:2.0
PRODID:-//Tukios.com/
BEGIN:VEVENT
UID:f1501255-5bf2-44d6-b9bb-d0938d544eff@www.collinsfuneral.com
DTSTAMP:20260420T021350Z
DTSTART:20260424T140000Z
DTEND:20260424T150000Z
SUMMARY:Mass
DESCRIPTION:
URL:https://www.collinsfuneral.com/obituaries/amy-poirier
LOCATION:St. Matthew Parish 25 Highland Street  Southborough MA 01772
GEO:42.2676093;-71.531042
END:VEVENT
END:VCALENDAR